BEGIN:VCALENDAR
VERSION:2.0
PRODID:-//Our Lady of Lourdes Parish - ECPv4.8.2//NONSGML v1.0//EN
CALSCALE:GREGORIAN
METHOD:PUBLISH
X-WR-CALNAME:Our Lady of Lourdes Parish
X-ORIGINAL-URL:https://lourdes.to
X-WR-CALDESC:Events for Our Lady of Lourdes Parish
BEGIN:VEVENT
DTSTART;TZID=America/Toronto:20191231T233000
DTEND;TZID=America/Toronto:20200101T010000
DTSTAMP:20260420T091402
CREATED:20191128T224148Z
LAST-MODIFIED:20191128T224148Z
UID:2857-1577835000-1577840400@lourdes.to
SUMMARY:12am Mass in Tamil Language (Carols begin at 11:30pm)
DESCRIPTION:
URL:https://lourdes.to/event/12am-mass-in-tamil-language-carols-begin-at-1130pm/
LOCATION:Our Lady of Lourdes\, 520 Sherbourne St\, Toronto\, ON\, M4Y 1M4\, Canada
GEO:43.6683817;-79.3756593
X-APPLE-STRUCTURED-LOCATION;VALUE=URI;X-ADDRESS=Our Lady of Lourdes 520 Sherbourne St Toronto ON M4Y 1M4 Canada;X-APPLE-RADIUS=500;X-TITLE=520 Sherbourne St:geo:-79.3756593,43.6683817
END:VEVENT
END:VCALENDAR