BEGIN:VCALENDAR
VERSION:2.0
PRODID:-//Our Lady of Lourdes Parish - ECPv4.8.2//NONSGML v1.0//EN
CALSCALE:GREGORIAN
METHOD:PUBLISH
X-WR-CALNAME:Our Lady of Lourdes Parish
X-ORIGINAL-URL:https://lourdes.to
X-WR-CALDESC:Events for Our Lady of Lourdes Parish
BEGIN:VEVENT
DTSTART;TZID=America/Toronto:20200315T083000
DTEND;TZID=America/Toronto:20200315T093000
DTSTAMP:20260419T155046
CREATED:20191107T153832Z
LAST-MODIFIED:20200313T212614Z
UID:1345-1584261000-1584264600@lourdes.to
SUMMARY:830am Mass - CANCELLED
DESCRIPTION:
URL:https://lourdes.to/event/830am-mass-2020-03-15/
LOCATION:Our Lady of Lourdes\, 520 Sherbourne St\, Toronto\, ON\, M4Y 1M4\, Canada
GEO:43.6683817;-79.3756593
X-APPLE-STRUCTURED-LOCATION;VALUE=URI;X-ADDRESS=Our Lady of Lourdes 520 Sherbourne St Toronto ON M4Y 1M4 Canada;X-APPLE-RADIUS=500;X-TITLE=520 Sherbourne St:geo:-79.3756593,43.6683817
END:VEVENT
END:VCALENDAR