BEGIN:VCALENDAR
VERSION:2.0
PRODID:-//Our Lady of Lourdes Parish - ECPv4.8.2//NONSGML v1.0//EN
CALSCALE:GREGORIAN
METHOD:PUBLISH
X-WR-CALNAME:Our Lady of Lourdes Parish
X-ORIGINAL-URL:https://lourdes.to
X-WR-CALDESC:Events for Our Lady of Lourdes Parish
BEGIN:VEVENT
DTSTART;TZID=America/Toronto:20200317T180000
DTEND;TZID=America/Toronto:20200317T200000
DTSTAMP:20260419T215124
CREATED:20191128T221445Z
LAST-MODIFIED:20200313T212557Z
UID:2853-1584468000-1584475200@lourdes.to
SUMMARY:Alpha - CANCELLED
DESCRIPTION:Alpha is a series of interactive sessions that freely explore the basics of the Christian faith. Visit www.lourdes.to/alpha for more information and to register. \n
URL:https://lourdes.to/event/alpha-2020-03-17/
LOCATION:Our Lady of Lourdes\, 520 Sherbourne St\, Toronto\, ON\, M4Y 1M4\, Canada
GEO:43.6683817;-79.3756593
X-APPLE-STRUCTURED-LOCATION;VALUE=URI;X-ADDRESS=Our Lady of Lourdes 520 Sherbourne St Toronto ON M4Y 1M4 Canada;X-APPLE-RADIUS=500;X-TITLE=520 Sherbourne St:geo:-79.3756593,43.6683817
END:VEVENT
END:VCALENDAR