BEGIN:VCALENDAR
VERSION:2.0
PRODID:-//Our Lady of Lourdes Parish - ECPv4.8.2//NONSGML v1.0//EN
CALSCALE:GREGORIAN
METHOD:PUBLISH
X-WR-CALNAME:Our Lady of Lourdes Parish
X-ORIGINAL-URL:https://lourdes.to
X-WR-CALDESC:Events for Our Lady of Lourdes Parish
BEGIN:VEVENT
DTSTART;TZID=America/Toronto:20191221T120000
DTEND;TZID=America/Toronto:20191221T160000
DTSTAMP:20260425T102921
CREATED:20191128T215343Z
LAST-MODIFIED:20191128T215343Z
UID:2698-1576929600-1576944000@lourdes.to
SUMMARY:Caroling at the Jesuit Infirmary
DESCRIPTION:Caroling to the Jesuit Infirmary | Saturday\, December 21st | Join fellow Lourdes parishioners as we bring cheer and song to retired and infirmed Jesuit priests at the Jesuit Infirmary in Pickering | Meet at Lynch Hall @ 12pm | Transportation to and from Pickering available | Return to Lourdes @ ~4pm | Organized by the Young Adults Group \n
URL:https://lourdes.to/event/caroling-at-the-jesuit-infirmary/
LOCATION:Our Lady of Lourdes\, 520 Sherbourne St\, Toronto\, ON\, M4Y 1M4\, Canada
GEO:43.6683817;-79.3756593
X-APPLE-STRUCTURED-LOCATION;VALUE=URI;X-ADDRESS=Our Lady of Lourdes 520 Sherbourne St Toronto ON M4Y 1M4 Canada;X-APPLE-RADIUS=500;X-TITLE=520 Sherbourne St:geo:-79.3756593,43.6683817
END:VEVENT
END:VCALENDAR