BEGIN:VCALENDAR
VERSION:2.0
PRODID:-//Our Lady of Lourdes Parish - ECPv4.8.2//NONSGML v1.0//EN
CALSCALE:GREGORIAN
METHOD:PUBLISH
X-WR-CALNAME:Our Lady of Lourdes Parish
X-ORIGINAL-URL:https://lourdes.to
X-WR-CALDESC:Events for Our Lady of Lourdes Parish
BEGIN:VEVENT
DTSTART;VALUE=DATE:20200404
DTEND;VALUE=DATE:20200413
DTSTAMP:20260419T131502
CREATED:20190411T003918Z
LAST-MODIFIED:20200411T215830Z
UID:504-1586030400-1586721599@lourdes.to
SUMMARY:Easter Schedule
DESCRIPTION:Join Our Lady of Lourdes Parish in Toronto for Easter this year\, exclusively online and on demand! \nVisit Lourdes TV. \nSolemn Easter Vigil | Saturday\, April 11th | 8pm \nEaster Sunday | Sunday\, April 12th | 8:30am\, 10am\, 11:30am\, 1pm\, 5pm\, 7pm \nRecordings will be uploaded following the day's Masses. \n
URL:https://lourdes.to/event/easter-schedule/
LOCATION:Our Lady of Lourdes\, 520 Sherbourne St\, Toronto\, ON\, M4Y 1M4\, Canada
GEO:43.6683817;-79.3756593
X-APPLE-STRUCTURED-LOCATION;VALUE=URI;X-ADDRESS=Our Lady of Lourdes 520 Sherbourne St Toronto ON M4Y 1M4 Canada;X-APPLE-RADIUS=500;X-TITLE=520 Sherbourne St:geo:-79.3756593,43.6683817
ATTACH;FMTTYPE=image/jpeg:https://lourdes.to/wp-content/uploads/2019/03/WEB_NextSteps_01_960×640@2x.jpg
END:VEVENT
END:VCALENDAR