BEGIN:VCALENDAR
VERSION:2.0
PRODID:-//Our Lady of Lourdes Parish - ECPv4.8.2//NONSGML v1.0//EN
CALSCALE:GREGORIAN
METHOD:PUBLISH
X-WR-CALNAME:Our Lady of Lourdes Parish
X-ORIGINAL-URL:https://lourdes.to
X-WR-CALDESC:Events for Our Lady of Lourdes Parish
BEGIN:VEVENT
DTSTART;TZID=America/Toronto:20190521T180000
DTEND;TZID=America/Toronto:20190521T200000
DTSTAMP:20260423T192650
CREATED:20190411T003709Z
LAST-MODIFIED:20190502T201115Z
UID:511-1558461600-1558468800@lourdes.to
SUMMARY:Alpha - Why and How Do I Pray?
DESCRIPTION:Join us for the fourth session of this spring's Alpha course. The topic is "Why and How Do I Pray?" To learn more about Alpha visit www.lourdes.to/next-steps/alpha \n
URL:https://lourdes.to/event/spring-alpha-2019-04-30-2019-05-21/
LOCATION:Our Lady of Lourdes\, 520 Sherbourne St\, Toronto\, ON\, M4Y 1M4\, Canada
GEO:43.6683817;-79.3756593
X-APPLE-STRUCTURED-LOCATION;VALUE=URI;X-ADDRESS=Our Lady of Lourdes 520 Sherbourne St Toronto ON M4Y 1M4 Canada;X-APPLE-RADIUS=500;X-TITLE=520 Sherbourne St:geo:-79.3756593,43.6683817
ATTACH;FMTTYPE=image/jpeg:https://lourdes.to/wp-content/uploads/2019/04/AlphaEp5slide.jpg
END:VEVENT
END:VCALENDAR