BEGIN:VCALENDAR
VERSION:2.0
PRODID:-//Our Lady of Lourdes Parish - ECPv4.8.2//NONSGML v1.0//EN
CALSCALE:GREGORIAN
METHOD:PUBLISH
X-WR-CALNAME:Our Lady of Lourdes Parish
X-ORIGINAL-URL:https://lourdes.to
X-WR-CALDESC:Events for Our Lady of Lourdes Parish
BEGIN:VEVENT
DTSTART;TZID=America/Toronto:20200314T100000
DTEND;TZID=America/Toronto:20200314T150000
DTSTAMP:20260419T185515
CREATED:20200128T214850Z
LAST-MODIFIED:20200313T212902Z
UID:3110-1584180000-1584198000@lourdes.to
SUMMARY:Volunteer Tax Clinic - CANCELLED
DESCRIPTION:Volunteer Tax Clinic | Sat\, March 14\, 10am-3pm | Please call the Parish Office at 416-924-6257 for an appointment. For those unable to attend the clinic\, we also offer a “Drop-Off Service” – please contact the office for more information. \n
URL:https://lourdes.to/event/volunteer-tax-clinic/
LOCATION:Our Lady of Lourdes\, 520 Sherbourne St\, Toronto\, ON\, M4Y 1M4\, Canada
GEO:43.6683817;-79.3756593
X-APPLE-STRUCTURED-LOCATION;VALUE=URI;X-ADDRESS=Our Lady of Lourdes 520 Sherbourne St Toronto ON M4Y 1M4 Canada;X-APPLE-RADIUS=500;X-TITLE=520 Sherbourne St:geo:-79.3756593,43.6683817
END:VEVENT
END:VCALENDAR