BEGIN:VCALENDAR
VERSION:2.0
PRODID:-//Our Lady of Lourdes Parish - ECPv4.8.2//NONSGML v1.0//EN
CALSCALE:GREGORIAN
METHOD:PUBLISH
X-WR-CALNAME:Our Lady of Lourdes Parish
X-ORIGINAL-URL:https://lourdes.to
X-WR-CALDESC:Events for Our Lady of Lourdes Parish
BEGIN:VEVENT
DTSTART;TZID=America/Toronto:20200228T190000
DTEND;TZID=America/Toronto:20200228T193000
DTSTAMP:20260420T011344
CREATED:20200128T214245Z
LAST-MODIFIED:20200228T155757Z
UID:3095-1582916400-1582918200@lourdes.to
SUMMARY:Way of the Cross
DESCRIPTION:Way of the Cross | Fridays throughout Lent at 7pm beginning Fri\, Feb 28 \n
URL:https://lourdes.to/event/way-of-the-cross/2020-02-28/
LOCATION:Our Lady of Lourdes\, 520 Sherbourne St\, Toronto\, ON\, M4Y 1M4\, Canada
GEO:43.6683817;-79.3756593
X-APPLE-STRUCTURED-LOCATION;VALUE=URI;X-ADDRESS=Our Lady of Lourdes 520 Sherbourne St Toronto ON M4Y 1M4 Canada;X-APPLE-RADIUS=500;X-TITLE=520 Sherbourne St:geo:-79.3756593,43.6683817
END:VEVENT
END:VCALENDAR