BEGIN:VCALENDAR
VERSION:2.0
PRODID:-//Our Lady of Lourdes Parish - ECPv4.8.2//NONSGML v1.0//EN
CALSCALE:GREGORIAN
METHOD:PUBLISH
X-WR-CALNAME:Our Lady of Lourdes Parish
X-ORIGINAL-URL:https://lourdes.to
X-WR-CALDESC:Events for Our Lady of Lourdes Parish
BEGIN:VEVENT
DTSTART;TZID=America/Toronto:20191007T190000
DTEND;TZID=America/Toronto:20191007T210000
DTSTAMP:20260419T184345
CREATED:20191002T145001Z
LAST-MODIFIED:20191002T145021Z
UID:1010-1570474800-1570482000@lourdes.to
SUMMARY:Young Professionals' Pub Night
DESCRIPTION:Are you between the ages of 25 and 40? Want to get involved in the community or just connect with fellow parishioners your age?  \nJoin us for drinks\, conversation and just a good time at Storm Crow Manor (580 Church St\, Toronto) on Monday\, October 7th at 7PM! For more information\, contact us at youngprofessionals@lourdes.to \n
URL:https://lourdes.to/event/young-professionals-pub-night/
LOCATION:Storm Crow Manor\, 580 Church St\, Toronto\, Ontario\, M4Y 2E5\, Canada
GEO:43.6667823;-79.3817303
X-APPLE-STRUCTURED-LOCATION;VALUE=URI;X-ADDRESS=Storm Crow Manor 580 Church St Toronto Ontario M4Y 2E5 Canada;X-APPLE-RADIUS=500;X-TITLE=580 Church St:geo:-79.3817303,43.6667823
ATTACH;FMTTYPE=image/png:https://lourdes.to/wp-content/uploads/2019/10/yp.png
END:VEVENT
END:VCALENDAR